Package: SpotSweeper Version: 1.3.3 Command: /home/biocbuild/bbs-3.21-bioc/R/bin/R CMD check --install=check:SpotSweeper.install-out.txt --library=/home/biocbuild/bbs-3.21-bioc/R/site-library --timings SpotSweeper_1.3.3.tar.gz StartedAt: 2025-02-21 02:16:06 -0500 (Fri, 21 Feb 2025) EndedAt: 2025-02-21 02:25:25 -0500 (Fri, 21 Feb 2025) EllapsedTime: 558.8 seconds RetCode: 0 Status: OK CheckDir: SpotSweeper.Rcheck Warnings: 0