Package: SpotSweeper Version: 1.3.3 Command: /home/biocbuild/bbs-3.21-bioc/R/bin/R CMD build --keep-empty-dirs --no-resave-data SpotSweeper StartedAt: 2025-02-20 19:27:28 -0500 (Thu, 20 Feb 2025) EndedAt: 2025-02-20 19:29:54 -0500 (Thu, 20 Feb 2025) EllapsedTime: 146.2 seconds RetCode: 0 Status: OK PackageFile: SpotSweeper_1.3.3.tar.gz PackageFileSize: 3.198 MiB