Package: SpotSweeper Version: 1.3.3 Command: /Library/Frameworks/R.framework/Resources/bin/R CMD INSTALL SpotSweeper StartedAt: 2025-02-20 15:24:39 -0500 (Thu, 20 Feb 2025) EndedAt: 2025-02-20 15:24:54 -0500 (Thu, 20 Feb 2025) EllapsedTime: 14.8 seconds RetCode: 0 Status: OK