Package: SpotClean Version: 1.9.0 Command: E:\biocbuild\bbs-3.21-bioc\R\bin\R.exe CMD INSTALL SpotClean StartedAt: 2025-02-19 16:40:03 -0500 (Wed, 19 Feb 2025) EndedAt: 2025-02-19 16:40:50 -0500 (Wed, 19 Feb 2025) EllapsedTime: 47.2 seconds RetCode: 0 Status: OK