Package: SpotClean Version: 1.9.0 Command: /Library/Frameworks/R.framework/Resources/bin/R CMD check --install=check:SpotClean.install-out.txt --library=/Library/Frameworks/R.framework/Resources/library --no-vignettes --timings SpotClean_1.9.0.tar.gz StartedAt: 2025-02-19 23:32:23 -0500 (Wed, 19 Feb 2025) EndedAt: 2025-02-19 23:42:24 -0500 (Wed, 19 Feb 2025) EllapsedTime: 600.9 seconds RetCode: 0 Status: OK CheckDir: SpotClean.Rcheck Warnings: 0