Package: SpotClean Version: 1.9.0 Command: /Library/Frameworks/R.framework/Resources/bin/R CMD build --keep-empty-dirs --no-resave-data SpotClean StartedAt: 2025-02-19 18:24:41 -0500 (Wed, 19 Feb 2025) EndedAt: 2025-02-19 18:28:07 -0500 (Wed, 19 Feb 2025) EllapsedTime: 206.6 seconds RetCode: 0 Status: OK PackageFile: SpotClean_1.9.0.tar.gz PackageFileSize: 4.274 MiB