Package: SpotClean Version: 1.9.0 Command: /Library/Frameworks/R.framework/Resources/bin/R CMD INSTALL SpotClean StartedAt: 2025-02-20 15:22:38 -0500 (Thu, 20 Feb 2025) EndedAt: 2025-02-20 15:22:54 -0500 (Thu, 20 Feb 2025) EllapsedTime: 15.3 seconds RetCode: 0 Status: OK