Package: SpotClean Version: 1.9.0 Command: /Library/Frameworks/R.framework/Resources/bin/R CMD build --keep-empty-dirs --no-resave-data SpotClean StartedAt: 2025-02-20 17:42:59 -0500 (Thu, 20 Feb 2025) EndedAt: 2025-02-20 17:44:34 -0500 (Thu, 20 Feb 2025) EllapsedTime: 94.1 seconds RetCode: 0 Status: OK PackageFile: SpotClean_1.9.0.tar.gz PackageFileSize: 4.274 MiB