Package: SplicingGraphs Version: 1.48.0 Command: /Library/Frameworks/R.framework/Resources/bin/R CMD INSTALL SplicingGraphs StartedAt: 2025-10-13 16:09:07 -0400 (Mon, 13 Oct 2025) EndedAt: 2025-10-13 16:10:33 -0400 (Mon, 13 Oct 2025) EllapsedTime: 86.2 seconds RetCode: 0 Status: OK