Package: SplicingGraphs Version: 1.48.0 Command: rm -rf SplicingGraphs.buildbin-libdir && mkdir SplicingGraphs.buildbin-libdir && /Users/biocbuild/BBS/utils/build-universal.sh SplicingGraphs_1.48.0.tar.gz /Library/Frameworks/R.framework/Resources/bin/R SplicingGraphs.buildbin-libdir StartedAt: 2025-10-14 14:52:43 -0400 (Tue, 14 Oct 2025) EndedAt: 2025-10-14 14:54:32 -0400 (Tue, 14 Oct 2025) EllapsedTime: 109.1 seconds RetCode: 0 Status: OK PackageFile: SplicingGraphs_1.48.0.tgz PackageFileSize: 4.82 MiB