Package: SplicingGraphs Version: 1.47.0 Command: /home/biocbuild/R/R/bin/R CMD check --install=check:SplicingGraphs.install-out.txt --library=/home/biocbuild/R/R/site-library --no-vignettes --timings SplicingGraphs_1.47.0.tar.gz StartedAt: 2025-01-28 15:40:57 -0000 (Tue, 28 Jan 2025) EndedAt: 2025-01-28 15:50:31 -0000 (Tue, 28 Jan 2025) EllapsedTime: 574.7 seconds RetCode: 0 Status: WARNINGS CheckDir: SplicingGraphs.Rcheck Warnings: 2