Package: SplicingGraphs Version: 1.48.0 Command: /Library/Frameworks/R.framework/Resources/bin/R CMD INSTALL SplicingGraphs StartedAt: 2025-10-02 17:14:33 -0400 (Thu, 02 Oct 2025) EndedAt: 2025-10-02 17:15:21 -0400 (Thu, 02 Oct 2025) EllapsedTime: 48.3 seconds RetCode: 0 Status: OK