Package: SplicingFactory Version: 1.15.0 Command: chmod a+r SplicingFactory -R && E:\biocbuild\bbs-3.21-bioc\R\bin\R.exe CMD build --keep-empty-dirs --no-resave-data SplicingFactory StartedAt: 2025-02-18 21:48:13 -0500 (Tue, 18 Feb 2025) EndedAt: 2025-02-18 21:48:58 -0500 (Tue, 18 Feb 2025) EllapsedTime: 45.7 seconds RetCode: 0 Status: OK PackageFile: SplicingFactory_1.15.0.tar.gz PackageFileSize: 429.9 KiB