Package: SplicingFactory Version: 1.15.0 Command: /home/biocbuild/bbs-3.21-bioc/R/bin/R CMD build --keep-empty-dirs --no-resave-data SplicingFactory StartedAt: 2025-02-18 19:16:39 -0500 (Tue, 18 Feb 2025) EndedAt: 2025-02-18 19:17:11 -0500 (Tue, 18 Feb 2025) EllapsedTime: 32.0 seconds RetCode: 0 Status: OK PackageFile: SplicingFactory_1.15.0.tar.gz PackageFileSize: 755 KiB