Package: SpliceWiz Version: 1.9.0 Command: E:\biocbuild\bbs-3.21-bioc\R\bin\R.exe CMD INSTALL SpliceWiz StartedAt: 2025-02-18 16:51:53 -0500 (Tue, 18 Feb 2025) EndedAt: 2025-02-18 16:53:07 -0500 (Tue, 18 Feb 2025) EllapsedTime: 74.4 seconds RetCode: 1 Status: ERROR