Package: SpliceWiz Version: 1.9.0 Command: /home/biocbuild/bbs-3.21-bioc/R/bin/R CMD INSTALL SpliceWiz StartedAt: 2025-02-19 15:34:38 -0500 (Wed, 19 Feb 2025) EndedAt: 2025-02-19 15:35:34 -0500 (Wed, 19 Feb 2025) EllapsedTime: 56.1 seconds RetCode: 1 Status: ERROR