Package: SpliceWiz Version: 1.9.0 Command: /Library/Frameworks/R.framework/Resources/bin/R CMD INSTALL SpliceWiz StartedAt: 2025-02-18 15:40:04 -0500 (Tue, 18 Feb 2025) EndedAt: 2025-02-18 15:41:14 -0500 (Tue, 18 Feb 2025) EllapsedTime: 70.1 seconds RetCode: 1 Status: ERROR