Package: SpliceWiz Version: 1.9.0 Command: /Library/Frameworks/R.framework/Resources/bin/R CMD build --keep-empty-dirs --no-resave-data SpliceWiz StartedAt: 2025-02-18 18:21:23 -0500 (Tue, 18 Feb 2025) EndedAt: 2025-02-18 18:22:20 -0500 (Tue, 18 Feb 2025) EllapsedTime: 57.0 seconds RetCode: 1 Status: ERROR PackageFile: None PackageFileSize: NA