Package: SpliceWiz Version: 1.9.0 Command: /Library/Frameworks/R.framework/Resources/bin/R CMD INSTALL SpliceWiz StartedAt: 2025-02-19 15:26:50 -0500 (Wed, 19 Feb 2025) EndedAt: 2025-02-19 15:27:09 -0500 (Wed, 19 Feb 2025) EllapsedTime: 19.0 seconds RetCode: 1 Status: ERROR