Package: SpectraQL Version: 1.1.0 Command: /home/biocbuild/bbs-3.21-bioc/R/bin/R CMD check --install=check:SpectraQL.install-out.txt --library=/home/biocbuild/bbs-3.21-bioc/R/site-library --timings SpectraQL_1.1.0.tar.gz StartedAt: 2025-02-21 02:12:00 -0500 (Fri, 21 Feb 2025) EndedAt: 2025-02-21 02:13:29 -0500 (Fri, 21 Feb 2025) EllapsedTime: 89.1 seconds RetCode: 0 Status: OK CheckDir: SpectraQL.Rcheck Warnings: 0