Package: SpectraQL Version: 1.1.0 Command: /Library/Frameworks/R.framework/Resources/bin/R CMD INSTALL SpectraQL StartedAt: 2025-02-21 15:14:30 -0500 (Fri, 21 Feb 2025) EndedAt: 2025-02-21 15:14:43 -0500 (Fri, 21 Feb 2025) EllapsedTime: 13.2 seconds RetCode: 0 Status: OK