Package: SpectraQL Version: 1.1.0 Command: /Library/Frameworks/R.framework/Resources/bin/R CMD check --install=check:SpectraQL.install-out.txt --library=/Library/Frameworks/R.framework/Resources/library --no-vignettes --timings SpectraQL_1.1.0.tar.gz StartedAt: 2025-02-20 23:29:12 -0500 (Thu, 20 Feb 2025) EndedAt: 2025-02-20 23:30:47 -0500 (Thu, 20 Feb 2025) EllapsedTime: 95.5 seconds RetCode: 0 Status: OK CheckDir: SpectraQL.Rcheck Warnings: 0