Package: Spectra Version: 1.17.5 Command: E:\biocbuild\bbs-3.21-bioc\R\bin\R.exe CMD INSTALL Spectra StartedAt: 2025-02-19 15:38:42 -0500 (Wed, 19 Feb 2025) EndedAt: 2025-02-19 15:40:00 -0500 (Wed, 19 Feb 2025) EllapsedTime: 78.3 seconds RetCode: 0 Status: OK