Package: Spectra Version: 1.17.5 Command: /Library/Frameworks/R.framework/Resources/bin/R CMD INSTALL Spectra StartedAt: 2025-02-20 15:13:30 -0500 (Thu, 20 Feb 2025) EndedAt: 2025-02-20 15:13:51 -0500 (Thu, 20 Feb 2025) EllapsedTime: 20.7 seconds RetCode: 0 Status: OK