Package: Spectra Version: 1.17.5 Command: /Library/Frameworks/R.framework/Resources/bin/R CMD INSTALL Spectra StartedAt: 2025-02-18 15:07:34 -0500 (Tue, 18 Feb 2025) EndedAt: 2025-02-18 15:07:40 -0500 (Tue, 18 Feb 2025) EllapsedTime: 5.8 seconds RetCode: 0 Status: OK