Package: SpeCond Version: 1.61.0 Command: E:\biocbuild\bbs-3.21-bioc\R\bin\R.exe CMD check --no-multiarch --install=check:SpeCond.install-out.txt --library=E:\biocbuild\bbs-3.21-bioc\R\library --no-vignettes --timings SpeCond_1.61.0.tar.gz StartedAt: 2025-02-21 06:03:44 -0500 (Fri, 21 Feb 2025) EndedAt: 2025-02-21 06:05:29 -0500 (Fri, 21 Feb 2025) EllapsedTime: 105.7 seconds RetCode: 0 Status: OK CheckDir: SpeCond.Rcheck Warnings: 0