Package: SpeCond Version: 1.61.0 Command: /home/biocbuild/bbs-3.21-bioc/R/bin/R CMD check --install=check:SpeCond.install-out.txt --library=/home/biocbuild/bbs-3.21-bioc/R/site-library --timings SpeCond_1.61.0.tar.gz StartedAt: 2025-02-22 02:31:27 -0500 (Sat, 22 Feb 2025) EndedAt: 2025-02-22 02:33:19 -0500 (Sat, 22 Feb 2025) EllapsedTime: 111.2 seconds RetCode: 0 Status: OK CheckDir: SpeCond.Rcheck Warnings: 0