Package: SpeCond Version: 1.61.0 Command: /Library/Frameworks/R.framework/Resources/bin/R CMD build --keep-empty-dirs --no-resave-data SpeCond StartedAt: 2025-02-21 17:41:10 -0500 (Fri, 21 Feb 2025) EndedAt: 2025-02-21 17:41:29 -0500 (Fri, 21 Feb 2025) EllapsedTime: 19.2 seconds RetCode: 0 Status: OK PackageFile: SpeCond_1.61.0.tar.gz PackageFileSize: 1.699 MiB