Package: SpatialOmicsOverlay Version: 1.7.0 Command: /home/biocbuild/bbs-3.21-bioc/R/bin/R CMD INSTALL SpatialOmicsOverlay StartedAt: 2025-02-20 15:25:02 -0500 (Thu, 20 Feb 2025) EndedAt: 2025-02-20 15:25:31 -0500 (Thu, 20 Feb 2025) EllapsedTime: 29.4 seconds RetCode: 0 Status: OK