Package: SpatialOmicsOverlay Version: 1.7.0 Command: /home/biocbuild/bbs-3.21-bioc/R/bin/R CMD check --install=check:SpatialOmicsOverlay.install-out.txt --library=/home/biocbuild/bbs-3.21-bioc/R/site-library --timings SpatialOmicsOverlay_1.7.0.tar.gz StartedAt: 2025-02-21 02:08:59 -0500 (Fri, 21 Feb 2025) EndedAt: 2025-02-21 02:24:18 -0500 (Fri, 21 Feb 2025) EllapsedTime: 919.1 seconds RetCode: 0 Status: OK CheckDir: SpatialOmicsOverlay.Rcheck Warnings: 0