Package: SpatialOmicsOverlay Version: 1.7.0 Command: /home/biocbuild/bbs-3.21-bioc/R/bin/R CMD build --keep-empty-dirs --no-resave-data SpatialOmicsOverlay StartedAt: 2025-02-20 19:24:37 -0500 (Thu, 20 Feb 2025) EndedAt: 2025-02-20 19:32:22 -0500 (Thu, 20 Feb 2025) EllapsedTime: 464.6 seconds RetCode: 0 Status: OK PackageFile: SpatialOmicsOverlay_1.7.0.tar.gz PackageFileSize: 4.349 MiB