Package: SpatialOmicsOverlay Version: 1.7.0 Command: /Library/Frameworks/R.framework/Resources/bin/R CMD check --install=check:SpatialOmicsOverlay.install-out.txt --library=/Library/Frameworks/R.framework/Resources/library --no-vignettes --timings SpatialOmicsOverlay_1.7.0.tar.gz StartedAt: 2025-02-20 23:27:13 -0500 (Thu, 20 Feb 2025) EndedAt: 2025-02-20 23:35:27 -0500 (Thu, 20 Feb 2025) EllapsedTime: 493.8 seconds RetCode: 0 Status: OK CheckDir: SpatialOmicsOverlay.Rcheck Warnings: 0