Package: SpatialFeatureExperiment Version: 1.9.9 Command: /Library/Frameworks/R.framework/Resources/bin/R CMD INSTALL SpatialFeatureExperiment StartedAt: 2025-02-20 15:32:52 -0500 (Thu, 20 Feb 2025) EndedAt: 2025-02-20 15:34:09 -0500 (Thu, 20 Feb 2025) EllapsedTime: 77.4 seconds RetCode: 0 Status: OK