Package: SpatialFeatureExperiment Version: 1.10.1 Command: /home/biocbuild/R/R/bin/R CMD INSTALL SpatialFeatureExperiment StartedAt: 2025-10-06 20:52:36 -0000 (Mon, 06 Oct 2025) EndedAt: 2025-10-06 20:54:01 -0000 (Mon, 06 Oct 2025) EllapsedTime: 85.6 seconds RetCode: 0 Status: OK