Package: SpatialFeatureExperiment Version: 1.10.1 Command: /home/biocbuild/R/R/bin/R CMD build --keep-empty-dirs --no-resave-data SpatialFeatureExperiment StartedAt: 2025-10-07 04:52:36 -0000 (Tue, 07 Oct 2025) EndedAt: 2025-10-07 04:56:01 -0000 (Tue, 07 Oct 2025) EllapsedTime: 205.1 seconds RetCode: 0 Status: OK PackageFile: SpatialFeatureExperiment_1.10.1.tar.gz PackageFileSize: 1.877 MiB