Package: SpatialExperimentIO Version: 0.99.8 Command: /home/biocbuild/bbs-3.21-bioc/R/bin/R CMD INSTALL SpatialExperimentIO StartedAt: 2025-02-17 15:47:50 -0500 (Mon, 17 Feb 2025) EndedAt: 2025-02-17 15:48:20 -0500 (Mon, 17 Feb 2025) EllapsedTime: 30.8 seconds RetCode: 0 Status: OK