Package: SpatialExperimentIO Version: 0.99.8 Command: /Library/Frameworks/R.framework/Resources/bin/R CMD INSTALL SpatialExperimentIO StartedAt: 2025-02-17 15:17:45 -0500 (Mon, 17 Feb 2025) EndedAt: 2025-02-17 15:18:27 -0500 (Mon, 17 Feb 2025) EllapsedTime: 42.2 seconds RetCode: 0 Status: OK