Package: SpatialExperimentIO Version: 0.99.8 Command: /Library/Frameworks/R.framework/Resources/bin/R CMD build --keep-empty-dirs --no-resave-data SpatialExperimentIO StartedAt: 2025-02-17 18:19:37 -0500 (Mon, 17 Feb 2025) EndedAt: 2025-02-17 18:20:33 -0500 (Mon, 17 Feb 2025) EllapsedTime: 56.0 seconds RetCode: 0 Status: OK PackageFile: SpatialExperimentIO_0.99.8.tar.gz PackageFileSize: 608.1 KiB