Package: SpatialExperimentIO Version: 0.99.8 Command: rm -rf SpatialExperimentIO.buildbin-libdir && mkdir SpatialExperimentIO.buildbin-libdir && /Users/biocbuild/BBS/utils/build-universal.sh SpatialExperimentIO_0.99.8.tar.gz /Library/Frameworks/R.framework/Resources/bin/R SpatialExperimentIO.buildbin-libdir StartedAt: 2025-02-18 22:39:14 -0500 (Tue, 18 Feb 2025) EndedAt: 2025-02-18 22:39:28 -0500 (Tue, 18 Feb 2025) EllapsedTime: 14.4 seconds RetCode: 0 Status: OK PackageFile: SpatialExperimentIO_0.99.8.tgz PackageFileSize: 649.5 KiB