Package: SpatialExperimentIO Version: 0.99.8 Maintainer: Yixing E. Dong MaintainerEmail: estelladong729 at gmail.com git_url: https://git.bioconductor.org/packages/SpatialExperimentIO git_branch: devel git_last_commit: 6daa463 git_last_commit_date: 2025-02-12 17:04:00 -0500 (Wed, 12 Feb 2025)