Package: SpatialExperiment Version: 1.17.0 Command: E:\biocbuild\bbs-3.21-bioc\R\bin\R.exe CMD INSTALL SpatialExperiment StartedAt: 2025-02-20 16:16:55 -0500 (Thu, 20 Feb 2025) EndedAt: 2025-02-20 16:19:16 -0500 (Thu, 20 Feb 2025) EllapsedTime: 140.8 seconds RetCode: 0 Status: OK