Package: SpatialExperiment Version: 1.17.0 Command: chmod a+r SpatialExperiment -R && E:\biocbuild\bbs-3.21-bioc\R\bin\R.exe CMD build --keep-empty-dirs --no-resave-data SpatialExperiment StartedAt: 2025-02-20 21:58:28 -0500 (Thu, 20 Feb 2025) EndedAt: 2025-02-20 22:00:08 -0500 (Thu, 20 Feb 2025) EllapsedTime: 99.7 seconds RetCode: 0 Status: OK PackageFile: SpatialExperiment_1.17.0.tar.gz PackageFileSize: 5.24 MiB