Package: SpatialExperiment Version: 1.17.0 Command: /home/biocbuild/bbs-3.21-bioc/R/bin/R CMD INSTALL SpatialExperiment StartedAt: 2025-02-20 15:28:09 -0500 (Thu, 20 Feb 2025) EndedAt: 2025-02-20 15:28:34 -0500 (Thu, 20 Feb 2025) EllapsedTime: 24.6 seconds RetCode: 0 Status: OK