Package: SpatialExperiment Version: 1.17.0 Command: /home/biocbuild/bbs-3.21-bioc/R/bin/R CMD build --keep-empty-dirs --no-resave-data SpatialExperiment StartedAt: 2025-02-20 19:23:36 -0500 (Thu, 20 Feb 2025) EndedAt: 2025-02-20 19:24:37 -0500 (Thu, 20 Feb 2025) EllapsedTime: 61.0 seconds RetCode: 0 Status: OK PackageFile: SpatialExperiment_1.17.0.tar.gz PackageFileSize: 5.156 MiB