Package: SpatialExperiment Version: 1.17.0 Command: /Library/Frameworks/R.framework/Resources/bin/R CMD INSTALL SpatialExperiment StartedAt: 2025-02-21 15:13:15 -0500 (Fri, 21 Feb 2025) EndedAt: 2025-02-21 15:13:47 -0500 (Fri, 21 Feb 2025) EllapsedTime: 32.1 seconds RetCode: 0 Status: OK