Package: SpatialExperiment Version: 1.17.0 Command: /Library/Frameworks/R.framework/Resources/bin/R CMD build --keep-empty-dirs --no-resave-data SpatialExperiment StartedAt: 2025-02-20 18:21:19 -0500 (Thu, 20 Feb 2025) EndedAt: 2025-02-20 18:22:28 -0500 (Thu, 20 Feb 2025) EllapsedTime: 69.5 seconds RetCode: 0 Status: OK PackageFile: SpatialExperiment_1.17.0.tar.gz PackageFileSize: 5.688 MiB