Package: SpatialExperiment Version: 1.17.0 Command: /Library/Frameworks/R.framework/Resources/bin/R CMD check --install=check:SpatialExperiment.install-out.txt --library=/Library/Frameworks/R.framework/Resources/library --no-vignettes --timings SpatialExperiment_1.17.0.tar.gz StartedAt: 2025-02-20 21:34:04 -0500 (Thu, 20 Feb 2025) EndedAt: 2025-02-20 21:35:30 -0500 (Thu, 20 Feb 2025) EllapsedTime: 86.0 seconds RetCode: 0 Status: OK CheckDir: SpatialExperiment.Rcheck Warnings: 0