Package: SpatialDecon Version: 1.17.0 Command: E:\biocbuild\bbs-3.21-bioc\R\bin\R.exe CMD INSTALL SpatialDecon StartedAt: 2025-02-20 15:42:08 -0500 (Thu, 20 Feb 2025) EndedAt: 2025-02-20 15:43:09 -0500 (Thu, 20 Feb 2025) EllapsedTime: 61.5 seconds RetCode: 0 Status: OK