Package: SpatialDecon Version: 1.17.0 Command: /home/biocbuild/bbs-3.21-bioc/R/bin/R CMD INSTALL SpatialDecon StartedAt: 2025-02-20 16:12:04 -0500 (Thu, 20 Feb 2025) EndedAt: 2025-02-20 16:12:27 -0500 (Thu, 20 Feb 2025) EllapsedTime: 22.7 seconds RetCode: 0 Status: OK