Package: SpatialDecon Version: 1.17.0 Command: /home/biocbuild/bbs-3.21-bioc/R/bin/R CMD check --install=check:SpatialDecon.install-out.txt --library=/home/biocbuild/bbs-3.21-bioc/R/site-library --timings SpatialDecon_1.17.0.tar.gz StartedAt: 2025-02-21 02:07:30 -0500 (Fri, 21 Feb 2025) EndedAt: 2025-02-21 02:18:36 -0500 (Fri, 21 Feb 2025) EllapsedTime: 665.7 seconds RetCode: 0 Status: OK CheckDir: SpatialDecon.Rcheck Warnings: 0